BEGIN:VCALENDAR
METHOD:PUBLISH
PRODID:-//Weblication CMS
VERSION:2.0
BEGIN:VEVENT
SUMMARY:Landschaftstreffen Neckar-Alb
DTSTART:20250201T160000
DTEND:20250201T235959
DESCRIPTION:Es Treffen so langsam unsere Gastzünfte ein um uns diversen Brauchtumsvorführungen zu begeistern.
LOCATION:Rottenburg
UID:https://narrenzunft-rottenburg.de/de/veranstaltungen/termine/Landschaftstreffen-Neckar-Alb.php
URL:https://narrenzunft-rottenburg.de/de/veranstaltungen/termine/Landschaftstreffen-Neckar-Alb.php
END:VEVENT
END:VCALENDAR